BEGIN:VCALENDAR
VERSION:2.0
PRODID:-//Blackeberg basket - ECPv6.15.20//NONSGML v1.0//EN
CALSCALE:GREGORIAN
METHOD:PUBLISH
X-ORIGINAL-URL:https://www.blackebergbasket.com
X-WR-CALDESC:Händelser för Blackeberg basket
REFRESH-INTERVAL;VALUE=DURATION:PT1H
X-Robots-Tag:noindex
X-PUBLISHED-TTL:PT1H
BEGIN:VTIMEZONE
TZID:Europe/Stockholm
BEGIN:DAYLIGHT
TZOFFSETFROM:+0100
TZOFFSETTO:+0200
TZNAME:CEST
DTSTART:20250330T010000
END:DAYLIGHT
BEGIN:STANDARD
TZOFFSETFROM:+0200
TZOFFSETTO:+0100
TZNAME:CET
DTSTART:20251026T010000
END:STANDARD
BEGIN:DAYLIGHT
TZOFFSETFROM:+0100
TZOFFSETTO:+0200
TZNAME:CEST
DTSTART:20260329T010000
END:DAYLIGHT
BEGIN:STANDARD
TZOFFSETFROM:+0200
TZOFFSETTO:+0100
TZNAME:CET
DTSTART:20261025T010000
END:STANDARD
BEGIN:DAYLIGHT
TZOFFSETFROM:+0100
TZOFFSETTO:+0200
TZNAME:CEST
DTSTART:20270328T010000
END:DAYLIGHT
BEGIN:STANDARD
TZOFFSETFROM:+0200
TZOFFSETTO:+0100
TZNAME:CET
DTSTART:20271031T010000
END:STANDARD
END:VTIMEZONE
BEGIN:VEVENT
DTSTART;TZID=Europe/Stockholm:20260514T080000
DTEND;TZID=Europe/Stockholm:20260517T170000
DTSTAMP:20260425T155850
CREATED:20250925T155057Z
LAST-MODIFIED:20250925T155216Z
UID:2281-1778745600-1779037200@www.blackebergbasket.com
SUMMARY:Göteborgs Basketfestival
DESCRIPTION:I Göteborgs Basketfestival deltar våra lag födda 2013 och äldre\, upp till U19. \nhttps://basketballfestival.se/
URL:https://www.blackebergbasket.com/kalender/goteborgs-basketfestival-3/
LOCATION:Göteborg
CATEGORIES:Turneringar
END:VEVENT
END:VCALENDAR