BEGIN:VCALENDAR
VERSION:2.0
PRODID:-//Blackeberg basket - ECPv6.15.20//NONSGML v1.0//EN
CALSCALE:GREGORIAN
METHOD:PUBLISH
X-WR-CALNAME:Blackeberg basket
X-ORIGINAL-URL:https://www.blackebergbasket.com
X-WR-CALDESC:Händelser för Blackeberg basket
REFRESH-INTERVAL;VALUE=DURATION:PT1H
X-Robots-Tag:noindex
X-PUBLISHED-TTL:PT1H
BEGIN:VTIMEZONE
TZID:Europe/Stockholm
BEGIN:DAYLIGHT
TZOFFSETFROM:+0100
TZOFFSETTO:+0200
TZNAME:CEST
DTSTART:20250330T010000
END:DAYLIGHT
BEGIN:STANDARD
TZOFFSETFROM:+0200
TZOFFSETTO:+0100
TZNAME:CET
DTSTART:20251026T010000
END:STANDARD
BEGIN:DAYLIGHT
TZOFFSETFROM:+0100
TZOFFSETTO:+0200
TZNAME:CEST
DTSTART:20260329T010000
END:DAYLIGHT
BEGIN:STANDARD
TZOFFSETFROM:+0200
TZOFFSETTO:+0100
TZNAME:CET
DTSTART:20261025T010000
END:STANDARD
BEGIN:DAYLIGHT
TZOFFSETFROM:+0100
TZOFFSETTO:+0200
TZNAME:CEST
DTSTART:20270328T010000
END:DAYLIGHT
BEGIN:STANDARD
TZOFFSETFROM:+0200
TZOFFSETTO:+0100
TZNAME:CET
DTSTART:20271031T010000
END:STANDARD
END:VTIMEZONE
BEGIN:VEVENT
DTSTART;TZID=Europe/Stockholm:20260430T170000
DTEND;TZID=Europe/Stockholm:20260501T020000
DTSTAMP:20260425T143137
CREATED:20260422T111716Z
LAST-MODIFIED:20260422T111808Z
UID:2593-1777568400-1777600800@www.blackebergbasket.com
SUMMARY:Blackeblixten
DESCRIPTION:Den 30 april är det traditionsenligt dags för Blackeblixten\, vårt eget klubbmästerskap!\nSom vanligt går turneringen av stapeln på Valborgsmässoafton\, torsdagen den 30 april\, och vi spelar i Vinstahallen. Första matchstart cirka kl. 17.00 och vi beräknar att hålla på fram till cirka kl. 02.00. \nSjälva tävlingen kanske egentligen kommer i andra hand\, utan det viktigaste är att alla medlemmar träffas och har roligt tillsammans över åldersgränserna. Givetvis kommer grillen vara tänd så att vi kan servera fräscha hamburgare till alla deltagare! \nLagen möts först i ett gruppspel och sedan blir det slutspel. Hur många som går vidare till slutspel beror på det totala antalet anmälda lag. \nOBS! Blackeblixten är öppen för de lag som normalt spelar 5-5 basket . Yngsta ålderskullen är alltså födda 2012. \nCoacher\, anmäl ert lag senast torsdagen den 23 april. Ni anmäler er via mail till kansli@blackebergbasket.com. \nNågra viktiga regler för Blackeblixten:\n• Speltid: 1 x 15 minuter. Rinnande tid\, d.v.s. klockan stoppas ej vid avblåsning. \n\nHandikapp: 12poäng/åldersgrupp\, 12 poäng i handikapp mellan könen och 12 poäng per nivå laget normalt spelar i. OBS! Beroende på antal anmälda lag kan speltid\, och därmed även handikapp\, komma att ändras!\nInga time-outs.\nVid straffkast gäller ett kast ger två poäng.\nLagfoul efter den fjärde foulen.\nVid oavgjort slutresultat tillämpas ”sudden death”.\nFlygande byten” tillämpas. Byte sker vid sekretariatet. Utgående spelare måste gå av innan ingående kan kliva in.\nFörlorande lag tillsätter domare till den efterföljande matchen. Vinnande lag tillsätter tidtagare och sekreterare till den efterföljande matchen.\n\nMaskeradtävling!\nSom vanligt blir det maskeradtävling. Förutom en segrare i själva turneringen är det också ett lag som vinner pris för bästa utklädnad. Vinnarna av detta pris presenteras på MVP-festen (klubbens stora säsongsavslutning)! \n 
URL:https://www.blackebergbasket.com/kalender/blackeblixten-3/
LOCATION:Vinstahallen\, Lyckselevägen 43\, Vällingby\, Sweden
CATEGORIES:Klubbevent
END:VEVENT
END:VCALENDAR